
BEGIN:VCALENDAR
VERSION:2.0
PRODID:-//African Telecommunications Union| - ECPv6.15.20//NONSGML v1.0//EN
CALSCALE:GREGORIAN
METHOD:PUBLISH
X-WR-CALNAME:African Telecommunications Union|
X-ORIGINAL-URL:https://atuuat.africa
X-WR-CALDESC:Events for African Telecommunications Union|
REFRESH-INTERVAL;VALUE=DURATION:PT1H
X-Robots-Tag:noindex
X-PUBLISHED-TTL:PT1H
BEGIN:VTIMEZONE
TZID:Europe/Moscow
BEGIN:STANDARD
TZOFFSETFROM:+0300
TZOFFSETTO:+0300
TZNAME:MSK
DTSTART:20220101T000000
END:STANDARD
END:VTIMEZONE
BEGIN:VTIMEZONE
TZID:UTC
BEGIN:STANDARD
TZOFFSETFROM:+0000
TZOFFSETTO:+0000
TZNAME:UTC
DTSTART:20220101T000000
END:STANDARD
END:VTIMEZONE
BEGIN:VEVENT
DTSTART;TZID=Europe/Moscow:20230824T080000
DTEND;TZID=Europe/Moscow:20231020T170000
DTSTAMP:20260423T180758
CREATED:20230824T114019Z
LAST-MODIFIED:20230824T132330Z
UID:12741-1692864000-1697821200@atuuat.africa
SUMMARY:Invitation to Participate in the 3rd Edition of the ATU Africa Innovation Challenge//Invitation à participer à la 3ème édition du Concours de l’innovation pour l’Afrique de l’UAT
DESCRIPTION:[vc_row][vc_column][vc_column_text]\nDear Sir/Madam\, \nKindly find attached the invitation to Participate in the 3rd Edition of the ATU Africa Innovation Challenge in 2023. \nShould you require any additional information\, please do not hesitate to contact us via Mr Jesse Wamwayi: jessewamwayi@yahoo.com \nBest regards\, \nATU Secretariat.[/vc_column_text][vc_separator color=”black” style=”shadow” border_width=”2″ el_width=”80″][/vc_column][/vc_row][vc_row][vc_column width=”1/2″][vc_custom_heading text=”Invitation to Universities and Institutions of Higher Learning from Africa to\nParticipate in the 3rd Edition of the ATU Africa Innovation Challenge” font_container=”tag:h2|font_size:13px|text_align:center|color:%23000000″ use_theme_fonts=”yes”][/vc_column][vc_column width=”1/2″][vc_custom_heading text=”Invitation to Universities and Institutions of Higher Learning from Africa to\nParticipate in the 3rd Edition of the ATU Africa Innovation Challenge” font_container=”tag:h2|font_size:13px|text_align:center|color:%23000000″ use_theme_fonts=”yes”][/vc_column][/vc_row][vc_row css=”.vc_custom_1692889403354{padding-right: 65px !important;padding-left: 65px !important;}”][vc_column width=”1/3″][vc_single_image image=”11906″ img_size=”full” alignment=”center” onclick=”custom_link” link=”https://atuuat.africa/wp-content/uploads/2023/08/EN_Invitation-to-Universities-and-Institutions-of-Higher-Learning-from-Africa-to-Participate-in-the-3rd-Edition-of-the-ATU-Africa-Innovation-Challenge.pdf”][/vc_column][vc_column width=”1/3″][/vc_column][vc_column width=”1/3″][vc_single_image image=”11906″ img_size=”full” alignment=”center” onclick=”custom_link” link=”https://atuuat.africa/wp-content/uploads/2023/08/FR_Invitation-to-Universities-and-Institutions-of-Higher-Learning-from-Africa-to-Participate-in-the-3rd-Edition-of-the-ATU-Africa-Innovation-Challenge.pdf”][/vc_column][/vc_row]
URL:https://atuuat.africa/event/invitation-to-participate-in-the-3rd-edition-of-the-atu-africa-innovation-challenge-invitation-a-participer-a-la-3eme-edition-du-concours-de-linnovation-pour-lafrique-de-lu/
LOCATION:Africa Telecommunications Union\, African Telecommunications Union\, Nairobi\, Nairobi\, 00100\, Kenya
CATEGORIES:2023
ATTACH;FMTTYPE=image/jpeg:https://atuuat.africa/wp-content/uploads/2023/01/ATUUAT-MEETINGm.jpg
ORGANIZER;CN="ATU":MAILTO:sg@atuuat.africa
END:VEVENT
BEGIN:VEVENT
DTSTART;VALUE=DATE:20230904
DTEND;VALUE=DATE:20230905
DTSTAMP:20260423T180758
CREATED:20230315T192753Z
LAST-MODIFIED:20230315T193102Z
UID:12083-1693785600-1693871999@atuuat.africa
SUMMARY:WGs 1&2 meeting to consider Member States contributions to WTSA-24 preparations
DESCRIPTION:
URL:https://atuuat.africa/event/wgs-12-meeting-to-consider-member-states-contributions-to-wtsa-24-preparations/
LOCATION:Africa Telecommunications Union\, African Telecommunications Union\, Nairobi\, Nairobi\, 00100\, Kenya
CATEGORIES:2023,atu
ATTACH;FMTTYPE=image/jpeg:https://atuuat.africa/wp-content/uploads/2021/05/ATUUAT-MEETING-4.jpg
ORGANIZER;CN="ATU":MAILTO:sg@atuuat.africa
END:VEVENT
BEGIN:VEVENT
DTSTART;TZID=UTC:20230904T140000
DTEND;TZID=UTC:20230904T150000
DTSTAMP:20260423T180758
CREATED:20230824T133829Z
LAST-MODIFIED:20230824T133910Z
UID:12753-1693836000-1693839600@atuuat.africa
SUMMARY:Invitation to an Online Stakeholder Validation Workshop on The Universal Service Funds (USF) Report
DESCRIPTION:[vc_row][vc_column][vc_column_text]\nDear Sir/Madam\, \nKindly find attached the invitation to the online Stakeholder validation workshop on the Universal Service Funds (USF) Report on 4 September 2023\, from 14:00 to 15:30 (EAT). \nRegister to attend via: https://us02web.zoom.us/meeting/register/tZEpd-mgqzwsGdDdlLdXs7yg-TuTU99_0BOz \nBest regards\, \nATU Secretariat[/vc_column_text][vc_separator color=”black” style=”shadow” border_width=”3″ el_width=”80″][/vc_column][/vc_row][vc_row][vc_column width=”1/4″][vc_custom_heading text=”INVITATION – Fr” font_container=”tag:h2|font_size:13px|text_align:center|color:%23000000″ use_theme_fonts=”yes”][vc_single_image image=”11906″ img_size=”full” alignment=”center” onclick=”custom_link” img_link_target=”_blank” link=”https://atuuat.africa/wp-content/uploads/2023/08/Fr_Circular-inviting-members-to-the-VALIDATION-WORKSHOP-FOR-THE-USF-REPORT-ON-4-SEPT-2023.pdf”][/vc_column][vc_column width=”1/4″][vc_custom_heading text=”INVITATION – En” font_container=”tag:h2|font_size:13px|text_align:center|color:%23000000″ use_theme_fonts=”yes”][vc_single_image image=”11906″ img_size=”full” alignment=”center” onclick=”custom_link” img_link_target=”_blank” link=”https://atuuat.africa/wp-content/uploads/2023/08/En_Circular-inviting-members-to-the-VALIDATION-WORKSHOP-FOR-THE-USF-REPORT-ON-4SEPT-2023.pdf”][/vc_column][vc_column width=”1/4″][vc_custom_heading text=”Concept Note – Fr” font_container=”tag:h2|font_size:13px|text_align:center|color:%23000000″ use_theme_fonts=”yes”][vc_single_image image=”11906″ img_size=”full” alignment=”center” onclick=”custom_link” img_link_target=”_blank” link=”https://atuuat.africa/wp-content/uploads/2023/08/FR_Concept-Note-of-USF-Session-at-Africa-PLF-MWC-Kigali-2023.pdf”][/vc_column][vc_column width=”1/4″][vc_custom_heading text=”Concept Note – En” font_container=”tag:h2|font_size:13px|text_align:center|color:%23000000″ use_theme_fonts=”yes”][vc_single_image image=”11906″ img_size=”full” alignment=”center” onclick=”custom_link” img_link_target=”_blank” link=”https://atuuat.africa/wp-content/uploads/2023/08/EN_Concept-Note-of-USF-Session-at-Africa-PLF-MWC-Kigali-2023..pdf”][/vc_column][/vc_row][vc_row][vc_column width=”1/4″][vc_custom_heading text=”Invitation to USF Session by ATU & GSMA – Fr” font_container=”tag:h2|font_size:13px|text_align:center|color:%23000000″ use_theme_fonts=”yes”][vc_single_image image=”11906″ img_size=”full” alignment=”center” onclick=”custom_link” img_link_target=”_blank” link=”https://atuuat.africa/wp-content/uploads/2023/08/FR_Invitation-to-USF-session-co-hosted-by-ATU-and-GSMA-1.pdf”][/vc_column][vc_column width=”1/4″][vc_custom_heading text=”Invitation to USF Session by ATU & GSMA – En” font_container=”tag:h2|font_size:13px|text_align:center|color:%23000000″ use_theme_fonts=”yes”][vc_single_image image=”11906″ img_size=”full” alignment=”center” onclick=”custom_link” img_link_target=”_blank” link=”https://atuuat.africa/wp-content/uploads/2023/08/EN_Invitation-to-USF-session-co-hosted-by-ATU-and-GSMA..pdf”][/vc_column][vc_column width=”1/4″][/vc_column][vc_column width=”1/4″][/vc_column][/vc_row]
URL:https://atuuat.africa/event/invitation-to-an-online-stakeholder-validation-workshop-on-the-universal-service-funds-usf-report/
LOCATION:Africa Telecommunications Union\, African Telecommunications Union\, Nairobi\, Nairobi\, 00100\, Kenya
CATEGORIES:2023
ATTACH;FMTTYPE=image/jpeg:https://atuuat.africa/wp-content/uploads/2023/01/ATUUAT-MEETING-acc.jpg
ORGANIZER;CN="ATU":MAILTO:sg@atuuat.africa
END:VEVENT
END:VCALENDAR