
BEGIN:VCALENDAR
VERSION:2.0
PRODID:-//African Telecommunications Union | - ECPv6.15.20//NONSGML v1.0//EN
CALSCALE:GREGORIAN
METHOD:PUBLISH
X-WR-CALNAME:African Telecommunications Union |
X-ORIGINAL-URL:https://atuuat.africa
X-WR-CALDESC:Events for African Telecommunications Union |
REFRESH-INTERVAL;VALUE=DURATION:PT1H
X-Robots-Tag:noindex
X-PUBLISHED-TTL:PT1H
BEGIN:VTIMEZONE
TZID:Europe/Moscow
BEGIN:STANDARD
TZOFFSETFROM:+0300
TZOFFSETTO:+0300
TZNAME:MSK
DTSTART:20250101T000000
END:STANDARD
END:VTIMEZONE
BEGIN:VTIMEZONE
TZID:Africa/Nairobi
BEGIN:STANDARD
TZOFFSETFROM:+0300
TZOFFSETTO:+0300
TZNAME:EAT
DTSTART:20250101T000000
END:STANDARD
END:VTIMEZONE
BEGIN:VEVENT
DTSTART;VALUE=DATE:20260716
DTEND;VALUE=DATE:20260725
DTSTAMP:20260423T111549
CREATED:20251110T104813Z
LAST-MODIFIED:20260212T113212Z
UID:14650-1784160000-1784937599@atuuat.africa
SUMMARY:Final Session of the ATU Administrative Council\, Conference Preparatory Committee (CPC) and The 6th Session of the ATU Plenipotentiary Conference in Abuja Nigeria
DESCRIPTION:[vc_row][vc_column width=”1/4″ css=”.vc_custom_1615639324721{margin-top: -25px !important;}”][/vc_column][vc_column width=”1/2″][/vc_column][vc_column width=”1/4″][vc_empty_space][vc_widget_sidebar sidebar_id=”mega-menu-widget”][/vc_column][/vc_row][vc_row full_width=”stretch_row”][vc_column][vc_empty_space height=”72px”][vc_empty_space height=”72px”][vc_separator color=”black” style=”shadow”][vc_empty_space]CPL-2026 Elections Page[/vc_column][/vc_row]
URL:https://atuuat.africa/event/cpl-2026/
LOCATION:Nigeria
CATEGORIES:2026,atu
ATTACH;FMTTYPE=image/jpeg:https://atuuat.africa/wp-content/uploads/2025/11/nigeria-1.jpg
ORGANIZER;CN="ATU":MAILTO:sg@atuuat.africa
END:VEVENT
BEGIN:VEVENT
DTSTART;VALUE=DATE:20260723
DTEND;VALUE=DATE:20260725
DTSTAMP:20260423T111549
CREATED:20250904T101203Z
LAST-MODIFIED:20250911T100250Z
UID:14523-1784764800-1784937599@atuuat.africa
SUMMARY:7th Ordinary Session of the African Telecommunications Union Conference of Plenipotentiaries (CPL-26) in Abuja\, Nigeria
DESCRIPTION:[vc_row][vc_column width=”1/4″ css=”.vc_custom_1615639324721{margin-top: -25px !important;}”][vc_widget_sidebar sidebar_id=”shop-page-right-sidebar”][/vc_column][vc_column width=”1/2″][/vc_column][vc_column width=”1/4″][vc_empty_space][vc_widget_sidebar sidebar_id=”mega-menu-widget”][/vc_column][/vc_row][vc_row bg_type=”bg_color” ult_hide_row=”ult_hide_row_value” ult_hide_row_tablet_small=”xs_tablet” ult_hide_row_mobile=”mobile” ult_hide_row_mobile_large=”xl_mobile” bg_color_value=”#ffffff”][vc_column width=”1/4″][vc_custom_heading text=”En – Invitation” font_container=”tag:h2|font_size:14px|text_align:center|color:%23000000″ use_theme_fonts=”yes”][vc_single_image image=”11906″ img_size=”full” alignment=”center” onclick=”custom_link” img_link_target=”_blank” link=”https://atuuat.africa/wp-content/uploads/2025/09/En_Invitation-to-CPL-26-Related-Meetings-1.pdf”][/vc_column][vc_column width=”1/4″][vc_custom_heading text=”Fr – Invitation” font_container=”tag:h2|font_size:14px|text_align:center|color:%23000000″ use_theme_fonts=”yes”][vc_single_image image=”11906″ img_size=”full” alignment=”center” onclick=”custom_link” img_link_target=”_blank” link=”https://atuuat.africa/wp-content/uploads/2025/09/FR_Invitation-to-CPL-26-Related-Meetings-1.pdf”][/vc_column][vc_column width=”1/4″][/vc_column][vc_column width=”1/4″][/vc_column][vc_column][vc_separator color=”black” style=”shadow”][/vc_column][/vc_row][vc_row full_width=”stretch_row_content_no_spaces”][vc_column]\n					\n					   \n					    \n					  		Registration\n						   	\n						   	\n						   \n						\n					   \n\n					\n					\n					\n					   \n					    \n					  		-\n						   	\n						   	\n						   \n						\n					   \n\n					\n					\n			\n				REGISTER HERE\n			\n			\n				[vc_column_text]\n\n\n\n\n–\n\n\n\n\n\n[/vc_column_text]\n			\n   \n     \n        	\n        		\n        			\n					   Registration\n					\n					   \n					   \n					   \n					\n            		\n			            \n			               REGISTER HERE\n			            \n        	\n        	\n        		\n        			\n					   -\n					\n					   \n					   \n					   \n					\n            		\n			            \n			               [vc_column_text]\n\n\n\n\n–\n\n\n\n\n\n[/vc_column_text]\n			            \n        	\n    	\n    \n\n\n[/vc_column][/vc_row][vc_row][vc_column][vc_empty_space height=”25px”][vc_separator color=”black” style=”shadow” border_width=”3″][vc_empty_space height=”25px”][/vc_column][/vc_row]
URL:https://atuuat.africa/event/abuja/
LOCATION:Abuja\, Nigeria
CATEGORIES:2026,atu
ATTACH;FMTTYPE=image/jpeg:https://atuuat.africa/wp-content/uploads/2023/01/ATUUAT-MEETING-acc.jpg
ORGANIZER;CN="ATU":MAILTO:sg@atuuat.africa
END:VEVENT
BEGIN:VEVENT
DTSTART;VALUE=DATE:20260723
DTEND;VALUE=DATE:20260725
DTSTAMP:20260423T111549
CREATED:20260421T092038Z
LAST-MODIFIED:20260421T092408Z
UID:16115-1784764800-1784937599@atuuat.africa
SUMMARY:Invitation to the 7th Ordinary Session of the ATU Conference of Plenipotentiaries (CPL-26) Abuja\, Nigeria
DESCRIPTION:[vc_row][vc_column width=”1/4″ css=”.vc_custom_1615639324721{margin-top: -25px !important;}”][/vc_column][vc_column width=”1/2″][/vc_column][vc_column width=”1/4″][vc_empty_space][vc_widget_sidebar sidebar_id=”mega-menu-widget”][/vc_column][/vc_row][vc_row][vc_column][vc_empty_space][/vc_column][/vc_row][vc_row full_width=”stretch_row_content” bg_type=”bg_color” ult_hide_row=”ult_hide_row_value” ult_hide_row_tablet_small=”xs_tablet” ult_hide_row_mobile=”mobile” ult_hide_row_mobile_large=”xl_mobile” bg_color_value=”#ffffff” css=”.vc_custom_1776530162265{padding-right: 250px !important;padding-left: 250px !important;}”][vc_column][vc_custom_heading text=”Invitation to the 7th Ordinary Session of the ATU Conference of Plenipotentiaries (CPL-26) Abuja\, Nigeria\,” font_container=”tag:h4|text_align:center|color:%2316a94e” use_theme_fonts=”yes”][vc_separator color=”black” style=”shadow”][/vc_column][/vc_row][vc_row full_width=”stretch_row_content” bg_type=”bg_color” ult_hide_row=”ult_hide_row_value” ult_hide_row_tablet_small=”xs_tablet” ult_hide_row_mobile=”mobile” ult_hide_row_mobile_large=”xl_mobile” bg_color_value=”#ffffff” css=”.vc_custom_1776763044504{padding-right: 300px !important;padding-left: 300px !important;}”][vc_column]\n					\n					   \n					    \n					  		Invitations\n						   	\n						   	\n						   \n						\n					   \n\n					\n					\n			\n				[vc_row_inner][vc_column_inner width=”1/4″][vc_custom_heading text=”Invitation – En” font_container=”tag:h2|font_size:14px|text_align:center” use_theme_fonts=”yes”][vc_single_image image=”11906″ img_size=”medium” alignment=”center” onclick=”custom_link” img_link_target=”_blank” link=”https://atuuat.africa/wp-content/uploads/2026/04/En_Invitation-to-CPL-26-Related-Meetings.pdf”][/vc_column_inner][vc_column_inner width=”1/4″][vc_custom_heading text=”Invitation – Fr” font_container=”tag:h2|font_size:14px|text_align:center” use_theme_fonts=”yes”][vc_single_image image=”11906″ img_size=”medium” alignment=”center” onclick=”custom_link” img_link_target=”_blank” link=”https://atuuat.africa/wp-content/uploads/2026/04/FR_Invitation-to-CPL-26-Related-Meetings.pdf”][/vc_column_inner][vc_column_inner width=”1/4″][/vc_column_inner][vc_column_inner width=”1/4″][/vc_column_inner][/vc_row_inner]\n			\n   \n     \n        	\n        		\n        			\n					   Invitations\n					\n					   \n					   \n					   \n					\n            		\n			            \n			               [vc_row_inner][vc_column_inner width=”1/4″][vc_custom_heading text=”Invitation – En” font_container=”tag:h2|font_size:14px|text_align:center” use_theme_fonts=”yes”][vc_single_image image=”11906″ img_size=”medium” alignment=”center” onclick=”custom_link” img_link_target=”_blank” link=”https://atuuat.africa/wp-content/uploads/2026/04/En_Invitation-to-CPL-26-Related-Meetings.pdf”][/vc_column_inner][vc_column_inner width=”1/4″][vc_custom_heading text=”Invitation – Fr” font_container=”tag:h2|font_size:14px|text_align:center” use_theme_fonts=”yes”][vc_single_image image=”11906″ img_size=”medium” alignment=”center” onclick=”custom_link” img_link_target=”_blank” link=”https://atuuat.africa/wp-content/uploads/2026/04/FR_Invitation-to-CPL-26-Related-Meetings.pdf”][/vc_column_inner][vc_column_inner width=”1/4″][/vc_column_inner][vc_column_inner width=”1/4″][/vc_column_inner][/vc_row_inner]\n			            \n        	\n    	\n    \n\n\n[/vc_column][/vc_row][vc_row full_width=”stretch_row_content” bg_type=”bg_color” ult_hide_row=”ult_hide_row_value” ult_hide_row_large_screen=”large_screen” ult_hide_row_desktop=”desktop” ult_hide_row_tablet=”tablet” bg_color_value=”#ffffff” css=”.vc_custom_1776763066866{padding-right: 300px !important;padding-left: 300px !important;}”][vc_column]\n					\n					   \n					    \n					  		Invitations\n						   	\n						   	\n						   \n						\n					   \n\n					\n					\n			\n				[vc_row_inner][vc_column_inner width=”1/4″][vc_custom_heading text=”Invitation – En” font_container=”tag:h2|font_size:14px|text_align:center” use_theme_fonts=”yes”][vc_single_image image=”11906″ img_size=”medium” alignment=”center” onclick=”custom_link” img_link_target=”_blank” link=”https://atuuat.africa/wp-content/uploads/2026/04/En_Invitation-to-CPL-26-Related-Meetings.pdf”][/vc_column_inner][vc_column_inner width=”1/4″][vc_custom_heading text=”Invitation – Fr” font_container=”tag:h2|font_size:14px|text_align:center” use_theme_fonts=”yes”][vc_single_image image=”11906″ img_size=”medium” alignment=”center” onclick=”custom_link” img_link_target=”_blank” link=”https://atuuat.africa/wp-content/uploads/2026/04/FR_Invitation-to-CPL-26-Related-Meetings.pdf”][/vc_column_inner][vc_column_inner width=”1/4″][/vc_column_inner][vc_column_inner width=”1/4″][/vc_column_inner][/vc_row_inner]\n			\n   \n     \n        	\n        		\n        			\n					   Invitations\n					\n					   \n					   \n					   \n					\n            		\n			            \n			               [vc_row_inner][vc_column_inner width=”1/4″][vc_custom_heading text=”Invitation – En” font_container=”tag:h2|font_size:14px|text_align:center” use_theme_fonts=”yes”][vc_single_image image=”11906″ img_size=”medium” alignment=”center” onclick=”custom_link” img_link_target=”_blank” link=”https://atuuat.africa/wp-content/uploads/2026/04/En_Invitation-to-CPL-26-Related-Meetings.pdf”][/vc_column_inner][vc_column_inner width=”1/4″][vc_custom_heading text=”Invitation – Fr” font_container=”tag:h2|font_size:14px|text_align:center” use_theme_fonts=”yes”][vc_single_image image=”11906″ img_size=”medium” alignment=”center” onclick=”custom_link” img_link_target=”_blank” link=”https://atuuat.africa/wp-content/uploads/2026/04/FR_Invitation-to-CPL-26-Related-Meetings.pdf”][/vc_column_inner][vc_column_inner width=”1/4″][/vc_column_inner][vc_column_inner width=”1/4″][/vc_column_inner][/vc_row_inner]\n			            \n        	\n    	\n    \n\n\n[/vc_column][/vc_row][vc_row full_width=”stretch_row_content” disable_element=”yes” bg_type=”bg_color” ult_hide_row=”ult_hide_row_value” ult_hide_row_large_screen=”large_screen” ult_hide_row_desktop=”desktop” ult_hide_row_tablet=”tablet” bg_color_value=”#ffffff”][vc_column]\n					\n					   \n					    \n					  		Draft Agenda-En\n						   	\n						   	\n						   \n						\n					   \n\n					\n					\n					\n					   \n					    \n					  		Registration\n						   	\n						   	\n						   \n						\n					   \n\n					\n					\n			\n				[vc_column_text]\n\n\n\n\n15:30-15:40 Opening Remarks\n\n\n \n\nJohn Omo\nSecretary-General\, African Telecommunications Union (ATU)\n\n\nSeizo Onoe\nDirector\, Telecommunication Standardization Bureau\, International Telecommunication Union (ITU)\n\n\n15:40-17:25 Session on AI-Driven DPI in Africa: Advancing through Standards\, Interoperability\, and Collaboration \n\n\nModerator\nIsaac Boateng\, Standardization Coordinator\, ATU\n\n\nSpeakers:\n \n\n\n\nRamy Ahmed Fathy\, Chair\, ITU-T Study Group 20 Regional Group for Africa (SG20RG-AFR); Chief of International Cybersecurity & Vice- Presidency for Cybersecurity\, NTRA\, Egypt\n\n\n\nSoheib Nunhuck\, Senior Policy Manager\, Mobile Money\, GSM Association (GSMA)\n\n\n\nJoanne Olushola Martins\, Technology Innovation Office\, The World Bank\n\n\n\n\n\n\nQuestions and Answers\n\n\n17:25-17:30 Closing Remarks\n\n\nClosing Remarks\n\n\nEmmanuel Manasseh\, Regional Director for Africa\, ITU\n\n\n\n–\n\n\n\n\n[/vc_column_text]\n			\n			\n				[vc_empty_space height=”22px”]REGISTER HERE\n			\n   \n     \n        	\n        		\n        			\n					   Draft Agenda-En\n					\n					   \n					   \n					   \n					\n            		\n			            \n			               [vc_column_text]\n\n\n\n\n15:30-15:40 Opening Remarks\n\n\n \n\nJohn Omo\nSecretary-General\, African Telecommunications Union (ATU)\n\n\nSeizo Onoe\nDirector\, Telecommunication Standardization Bureau\, International Telecommunication Union (ITU)\n\n\n15:40-17:25 Session on AI-Driven DPI in Africa: Advancing through Standards\, Interoperability\, and Collaboration \n\n\nModerator\nIsaac Boateng\, Standardization Coordinator\, ATU\n\n\nSpeakers:\n \n\n\n\nRamy Ahmed Fathy\, Chair\, ITU-T Study Group 20 Regional Group for Africa (SG20RG-AFR); Chief of International Cybersecurity & Vice- Presidency for Cybersecurity\, NTRA\, Egypt\n\n\n\nSoheib Nunhuck\, Senior Policy Manager\, Mobile Money\, GSM Association (GSMA)\n\n\n\nJoanne Olushola Martins\, Technology Innovation Office\, The World Bank\n\n\n\n\n\n\nQuestions and Answers\n\n\n17:25-17:30 Closing Remarks\n\n\nClosing Remarks\n\n\nEmmanuel Manasseh\, Regional Director for Africa\, ITU\n\n\n\n–\n\n\n\n\n[/vc_column_text]\n			            \n        	\n        	\n        		\n        			\n					   Registration\n					\n					   \n					   \n					   \n					\n            		\n			            \n			               [vc_empty_space height=”22px”]REGISTER HERE\n			            \n        	\n    	\n    \n\n\n[/vc_column][/vc_row]
URL:https://atuuat.africa/event/invitation-to-the-7th-ordinary-session-of-the-atu-conference-of-plenipotentiaries-cpl-26-abuja-nigeria/
LOCATION:Abuja\, Nigeria
CATEGORIES:2026,atu
ATTACH;FMTTYPE=image/jpeg:https://atuuat.africa/wp-content/uploads/2025/11/nigeria-1.jpg
ORGANIZER;CN="ATU":MAILTO:sg@atuuat.africa
END:VEVENT
END:VCALENDAR