
BEGIN:VCALENDAR
VERSION:2.0
PRODID:-//African Telecommunications Union| - ECPv6.15.20//NONSGML v1.0//EN
CALSCALE:GREGORIAN
METHOD:PUBLISH
X-WR-CALNAME:African Telecommunications Union|
X-ORIGINAL-URL:https://atuuat.africa
X-WR-CALDESC:Events for African Telecommunications Union|
REFRESH-INTERVAL;VALUE=DURATION:PT1H
X-Robots-Tag:noindex
X-PUBLISHED-TTL:PT1H
BEGIN:VTIMEZONE
TZID:UTC
BEGIN:STANDARD
TZOFFSETFROM:+0000
TZOFFSETTO:+0000
TZNAME:UTC
DTSTART:20190101T000000
END:STANDARD
END:VTIMEZONE
BEGIN:VEVENT
DTSTART;TZID=UTC:20201116T110000
DTEND;TZID=UTC:20201116T140000
DTSTAMP:20260423T135818
CREATED:20201110T083318Z
LAST-MODIFIED:20201110T083437Z
UID:9628-1605524400-1605535200@atuuat.africa
SUMMARY:Committee meetings for the Reserve Fund and Fellowship (by invitation)
DESCRIPTION:
URL:https://atuuat.africa/event/committee-meetings-for-the-reserve-fund-and-fellowship-by-invitation/
LOCATION:E-Meeting – Nairobi\, Kenya
CATEGORIES:atu
ATTACH;FMTTYPE=image/jpeg:https://atuuat.africa/wp-content/uploads/2020/09/ATUUAT-MEETING.jpg
ORGANIZER;CN="ATU":MAILTO:sg@atuuat.africa
END:VEVENT
END:VCALENDAR