
BEGIN:VCALENDAR
VERSION:2.0
PRODID:-//African Telecommunications Union| - ECPv6.15.20//NONSGML v1.0//EN
CALSCALE:GREGORIAN
METHOD:PUBLISH
X-ORIGINAL-URL:https://atuuat.africa
X-WR-CALDESC:Events for African Telecommunications Union|
REFRESH-INTERVAL;VALUE=DURATION:PT1H
X-Robots-Tag:noindex
X-PUBLISHED-TTL:PT1H
BEGIN:VTIMEZONE
TZID:UTC
BEGIN:STANDARD
TZOFFSETFROM:+0000
TZOFFSETTO:+0000
TZNAME:UTC
DTSTART:20190101T000000
END:STANDARD
END:VTIMEZONE
BEGIN:VEVENT
DTSTART;TZID=UTC:20201109T130000
DTEND;TZID=UTC:20201113T160000
DTSTAMP:20260423T141458
CREATED:20201110T070644Z
LAST-MODIFIED:20201110T070732Z
UID:9622-1604926800-1605283200@atuuat.africa
SUMMARY:4th African Preparatory Meeting for WTSA-20 (Online) back to back with a one-day workshop on Vertical Communications
DESCRIPTION:4th African Preparatory Meeting for WTSA-20 (Online) back to back with a one-day workshop on Vertical Communications
URL:https://atuuat.africa/event/4th-african-preparatory-meeting-for-wtsa-20-online-back-to-back-with-a-one-day-workshop-on-vertical-communications/
LOCATION:E-Meeting – Nairobi\, Kenya
CATEGORIES:atu
ATTACH;FMTTYPE=image/jpeg:https://atuuat.africa/wp-content/uploads/2020/09/ATUUAT-MEETING.jpg
ORGANIZER;CN="ATU":MAILTO:sg@atuuat.africa
END:VEVENT
BEGIN:VEVENT
DTSTART;TZID=UTC:20201111T080000
DTEND;TZID=UTC:20201111T170000
DTSTAMP:20260423T141458
CREATED:20201111T070006Z
LAST-MODIFIED:20201111T070047Z
UID:9647-1605081600-1605114000@atuuat.africa
SUMMARY:1st Task Group Meeting for Sat resources Discussion of input contributions
DESCRIPTION:1st Task Group Meeting for Sat resources Discussion of input contributions
URL:https://atuuat.africa/event/1st-task-group-meeting-for-sat-resources-discussion-of-input-contributions/
LOCATION:E-Meeting – Nairobi\, Kenya
CATEGORIES:atu
ATTACH;FMTTYPE=image/jpeg:https://atuuat.africa/wp-content/uploads/2020/09/ATUUAT-MEETING.jpg
ORGANIZER;CN="ATU":MAILTO:sg@atuuat.africa
END:VEVENT
BEGIN:VEVENT
DTSTART;TZID=UTC:20201111T080000
DTEND;TZID=UTC:20201111T170000
DTSTAMP:20260423T141458
CREATED:20201111T073139Z
LAST-MODIFIED:20201111T073503Z
UID:9656-1605081600-1605114000@atuuat.africa
SUMMARY:2nd Task Group Meeting for SAT Resources Discussion of input contributions
DESCRIPTION:2nd Task Group Meeting for SAT Resources \nDiscussion of input contributions
URL:https://atuuat.africa/event/2nd-task-group-meeting-for-sat-resources-discussion-of-input-contributions/
LOCATION:E-Meeting – Nairobi\, Kenya
CATEGORIES:atu
ATTACH;FMTTYPE=image/jpeg:https://atuuat.africa/wp-content/uploads/2020/09/ATUUAT-MEETING.jpg
ORGANIZER;CN="ATU":MAILTO:sg@atuuat.africa
END:VEVENT
END:VCALENDAR