
BEGIN:VCALENDAR
VERSION:2.0
PRODID:-//African Telecommunications Union| - ECPv6.15.20//NONSGML v1.0//EN
CALSCALE:GREGORIAN
METHOD:PUBLISH
X-WR-CALNAME:African Telecommunications Union|
X-ORIGINAL-URL:https://atuuat.africa
X-WR-CALDESC:Events for African Telecommunications Union|
REFRESH-INTERVAL;VALUE=DURATION:PT1H
X-Robots-Tag:noindex
X-PUBLISHED-TTL:PT1H
BEGIN:VTIMEZONE
TZID:UTC
BEGIN:STANDARD
TZOFFSETFROM:+0000
TZOFFSETTO:+0000
TZNAME:UTC
DTSTART:20190101T000000
END:STANDARD
END:VTIMEZONE
BEGIN:VEVENT
DTSTART;TZID=UTC:20201011T120000
DTEND;TZID=UTC:20201013T150000
DTSTAMP:20260423T130121
CREATED:20200923T073119Z
LAST-MODIFIED:20200923T113151Z
UID:9495-1602417600-1602601200@atuuat.africa
SUMMARY:1st Prep meeting for WTDC-21
DESCRIPTION:1st Prep meeting for WTDC-21
URL:https://atuuat.africa/event/1st-prep-meeting-for-wtdc-21/
LOCATION:E-Meeting – Nairobi\, Kenya
CATEGORIES:atu
ATTACH;FMTTYPE=image/jpeg:https://atuuat.africa/wp-content/uploads/2020/09/ATUUAT-MEETING.jpg
ORGANIZER;CN="ATU":MAILTO:sg@atuuat.africa
END:VEVENT
BEGIN:VEVENT
DTSTART;VALUE=DATE:20201012
DTEND;VALUE=DATE:20201015
DTSTAMP:20260423T130121
CREATED:20200923T125738Z
LAST-MODIFIED:20200923T141108Z
UID:9513-1602460800-1602719999@atuuat.africa
SUMMARY:ITU Online Workshops on GE84 Plan Optimization for Africa - Coordination Groups (English Group)
DESCRIPTION:ITU Online Workshops on GE84 Plan Optimization for Africa – Coordination Groups (English Group)
URL:https://atuuat.africa/event/itu-online-workshops-on-ge84-plan-optimization-for-africa-coordination-groups-english-group-2/
LOCATION:E-Meeting – Nairobi\, Kenya
CATEGORIES:atu
ATTACH;FMTTYPE=image/jpeg:https://atuuat.africa/wp-content/uploads/2020/09/ATUUAT-MEETING.jpg
ORGANIZER;CN="ATU":MAILTO:sg@atuuat.africa
END:VEVENT
END:VCALENDAR