
BEGIN:VCALENDAR
VERSION:2.0
PRODID:-//African Telecommunications Union| - ECPv6.15.20//NONSGML v1.0//EN
CALSCALE:GREGORIAN
METHOD:PUBLISH
X-ORIGINAL-URL:https://atuuat.africa
X-WR-CALDESC:Events for African Telecommunications Union|
REFRESH-INTERVAL;VALUE=DURATION:PT1H
X-Robots-Tag:noindex
X-PUBLISHED-TTL:PT1H
BEGIN:VTIMEZONE
TZID:UTC
BEGIN:STANDARD
TZOFFSETFROM:+0000
TZOFFSETTO:+0000
TZNAME:UTC
DTSTART:20190101T000000
END:STANDARD
END:VTIMEZONE
BEGIN:VEVENT
DTSTART;VALUE=DATE:20200928
DTEND;VALUE=DATE:20201001
DTSTAMP:20260423T141457
CREATED:20200923T062430Z
LAST-MODIFIED:20200923T113442Z
UID:9488-1601251200-1601510399@atuuat.africa
SUMMARY:ITU Online Workshops on GE84 Plan Optimization for Africa - Coordination Groups (English Group)
DESCRIPTION:
URL:https://atuuat.africa/event/itu-online-workshops-on-ge84-plan-optimization-for-africa-coordination-groups-english-group/
LOCATION:E-Meeting – Nairobi\, Kenya
CATEGORIES:atu
ATTACH;FMTTYPE=image/jpeg:https://atuuat.africa/wp-content/uploads/2020/09/ATUUAT-MEETING.jpg
ORGANIZER;CN="ATU":MAILTO:sg@atuuat.africa
END:VEVENT
END:VCALENDAR