
BEGIN:VCALENDAR
VERSION:2.0
PRODID:-//African Telecommunications Union| - ECPv6.15.20//NONSGML v1.0//EN
CALSCALE:GREGORIAN
METHOD:PUBLISH
X-WR-CALNAME:African Telecommunications Union|
X-ORIGINAL-URL:https://atuuat.africa
X-WR-CALDESC:Events for African Telecommunications Union|
REFRESH-INTERVAL;VALUE=DURATION:PT1H
X-Robots-Tag:noindex
X-PUBLISHED-TTL:PT1H
BEGIN:VTIMEZONE
TZID:UTC
BEGIN:STANDARD
TZOFFSETFROM:+0000
TZOFFSETTO:+0000
TZNAME:UTC
DTSTART:20190101T000000
END:STANDARD
END:VTIMEZONE
BEGIN:VEVENT
DTSTART;TZID=UTC:20200909T160000
DTEND;TZID=UTC:20200911T173000
DTSTAMP:20260423T134805
CREATED:20200923T061202Z
LAST-MODIFIED:20200923T135544Z
UID:9476-1599667200-1599845400@atuuat.africa
SUMMARY:1st Meeting of the ATU Task Group on Emerging Technologies
DESCRIPTION:1st Meeting of the ATU Task Group on Emerging Technologies and call for input contributions
URL:https://atuuat.africa/event/1st-meeting-of-the-atu-task-group-on-emerging-technologies-and-call-for-input-contributions/
LOCATION:E-Meeting – Nairobi\, Kenya
CATEGORIES:atu
ATTACH;FMTTYPE=image/jpeg:https://atuuat.africa/wp-content/uploads/2020/09/ATUUAT-MEETING.jpg
ORGANIZER;CN="ATU":MAILTO:sg@atuuat.africa
END:VEVENT
END:VCALENDAR